BEGIN:VCALENDAR
VERSION:2.0
PRODID:-//Felix Herkens - ECPv6.7.0//NONSGML v1.0//EN
CALSCALE:GREGORIAN
METHOD:PUBLISH
X-ORIGINAL-URL:https://felix-herkens.de
X-WR-CALDESC:Veranstaltungen für Felix Herkens
REFRESH-INTERVAL;VALUE=DURATION:PT1H
X-Robots-Tag:noindex
X-PUBLISHED-TTL:PT1H
BEGIN:VTIMEZONE
TZID:Europe/Berlin
BEGIN:DAYLIGHT
TZOFFSETFROM:+0100
TZOFFSETTO:+0200
TZNAME:CEST
DTSTART:20210328T010000
END:DAYLIGHT
BEGIN:STANDARD
TZOFFSETFROM:+0200
TZOFFSETTO:+0100
TZNAME:CET
DTSTART:20211031T010000
END:STANDARD
END:VTIMEZONE
BEGIN:VEVENT
DTSTART;TZID=Europe/Berlin:20210722T093000
DTEND;TZID=Europe/Berlin:20210722T170000
DTSTAMP:20260424T113842
CREATED:20210722T063954Z
LAST-MODIFIED:20210722T064100Z
UID:9039-1626946200-1626973200@felix-herkens.de
SUMMARY:Plenarsitzung
DESCRIPTION:Die 11. Plenarsitzung des 17. Landtags von Baden-Württemberg.
URL:https://felix-herkens.de/termin/plenarsitzung-3/
LOCATION:Landtag von Baden-Württemberg
END:VEVENT
END:VCALENDAR