BEGIN:VCALENDAR
VERSION:2.0
PRODID:-//Felix Herkens - ECPv6.7.0//NONSGML v1.0//EN
CALSCALE:GREGORIAN
METHOD:PUBLISH
X-WR-CALNAME:Felix Herkens
X-ORIGINAL-URL:https://felix-herkens.de
X-WR-CALDESC:Veranstaltungen für Felix Herkens
REFRESH-INTERVAL;VALUE=DURATION:PT1H
X-Robots-Tag:noindex
X-PUBLISHED-TTL:PT1H
BEGIN:VTIMEZONE
TZID:Europe/Berlin
BEGIN:DAYLIGHT
TZOFFSETFROM:+0100
TZOFFSETTO:+0200
TZNAME:CEST
DTSTART:20210328T010000
END:DAYLIGHT
BEGIN:STANDARD
TZOFFSETFROM:+0200
TZOFFSETTO:+0100
TZNAME:CET
DTSTART:20211031T010000
END:STANDARD
END:VTIMEZONE
BEGIN:VEVENT
DTSTART;TZID=Europe/Berlin:20210726T090000
DTEND;TZID=Europe/Berlin:20210726T120000
DTSTAMP:20260422T145025
CREATED:20210722T064826Z
LAST-MODIFIED:20210722T064826Z
UID:9041-1627290000-1627300800@felix-herkens.de
SUMMARY:Ausschuss für Wirtschaft\, Arbeit und Tourismus
DESCRIPTION:
URL:https://felix-herkens.de/termin/ausschuss-fuer-wirtschaft-arbeit-und-tourismus-2/
LOCATION:Landtag von Baden-Württemberg
END:VEVENT
BEGIN:VEVENT
DTSTART;TZID=Europe/Berlin:20210726T123000
DTEND;TZID=Europe/Berlin:20210726T150000
DTSTAMP:20260422T145025
CREATED:20210722T065744Z
LAST-MODIFIED:20210722T072008Z
UID:9043-1627302600-1627311600@felix-herkens.de
SUMMARY:Besuch der Hochschule Pforzheim mit Dr. Anna Christmann MdB
DESCRIPTION:Zusammen mit Dr. Anna Christmann MdB besuche ich das Institut für Industrial Ecology (INEC) und im Anschluss das Institut für Human Engineering & Empathic Design. \nHier findet ihr Infos zu beiden Instituten.
URL:https://felix-herkens.de/termin/besuch-der-hochschule-pforzheim-mit-dr-anna-christmann-mdb/
LOCATION:Hochschule Pforzheim
END:VEVENT
BEGIN:VEVENT
DTSTART;TZID=Europe/Berlin:20210726T180000
DTEND;TZID=Europe/Berlin:20210726T190000
DTSTAMP:20260422T145025
CREATED:20210722T072303Z
LAST-MODIFIED:20210722T072303Z
UID:9047-1627322400-1627326000@felix-herkens.de
SUMMARY:Fraktionssitzung der Gemeinderatsfraktion
DESCRIPTION:
URL:https://felix-herkens.de/termin/fraktionssitzung-der-gemeinderatsfraktion/
LOCATION:Rathaus Pforzheim
END:VEVENT
END:VCALENDAR