BEGIN:VCALENDAR
VERSION:2.0
PRODID:-//Felix Herkens - ECPv6.7.0//NONSGML v1.0//EN
CALSCALE:GREGORIAN
METHOD:PUBLISH
X-WR-CALNAME:Felix Herkens
X-ORIGINAL-URL:https://felix-herkens.de
X-WR-CALDESC:Veranstaltungen für Felix Herkens
REFRESH-INTERVAL;VALUE=DURATION:PT1H
X-Robots-Tag:noindex
X-PUBLISHED-TTL:PT1H
BEGIN:VTIMEZONE
TZID:Europe/Berlin
BEGIN:DAYLIGHT
TZOFFSETFROM:+0100
TZOFFSETTO:+0200
TZNAME:CEST
DTSTART:20210328T010000
END:DAYLIGHT
BEGIN:STANDARD
TZOFFSETFROM:+0200
TZOFFSETTO:+0100
TZNAME:CET
DTSTART:20211031T010000
END:STANDARD
END:VTIMEZONE
BEGIN:VEVENT
DTSTART;TZID=Europe/Berlin:20210727T100000
DTEND;TZID=Europe/Berlin:20210727T113000
DTSTAMP:20260424T143127
CREATED:20210722T072708Z
LAST-MODIFIED:20210722T072708Z
UID:9050-1627380000-1627385400@felix-herkens.de
SUMMARY:Gespräch zum Enztalradweg
DESCRIPTION:
URL:https://felix-herkens.de/termin/gespraech-zum-enztalradweg/
LOCATION:Niefern-Öschelbronn
END:VEVENT
BEGIN:VEVENT
DTSTART;TZID=Europe/Berlin:20210727T160000
DTEND;TZID=Europe/Berlin:20210727T180000
DTSTAMP:20260424T143127
CREATED:20210601T063127Z
LAST-MODIFIED:20210601T091353Z
UID:8906-1627401600-1627408800@felix-herkens.de
SUMMARY:Gemeinderat
DESCRIPTION:
URL:https://felix-herkens.de/termin/gemeinderat-pforzheim-2/
LOCATION:Pforzheim
END:VEVENT
END:VCALENDAR