BEGIN:VCALENDAR
VERSION:2.0
PRODID:-//Felix Herkens - ECPv6.7.0//NONSGML v1.0//EN
CALSCALE:GREGORIAN
METHOD:PUBLISH
X-WR-CALNAME:Felix Herkens
X-ORIGINAL-URL:https://felix-herkens.de
X-WR-CALDESC:Veranstaltungen für Felix Herkens
REFRESH-INTERVAL;VALUE=DURATION:PT1H
X-Robots-Tag:noindex
X-PUBLISHED-TTL:PT1H
BEGIN:VTIMEZONE
TZID:Europe/Berlin
BEGIN:DAYLIGHT
TZOFFSETFROM:+0100
TZOFFSETTO:+0200
TZNAME:CEST
DTSTART:20220327T010000
END:DAYLIGHT
BEGIN:STANDARD
TZOFFSETFROM:+0200
TZOFFSETTO:+0100
TZNAME:CET
DTSTART:20221030T010000
END:STANDARD
END:VTIMEZONE
BEGIN:VEVENT
DTSTART;TZID=Europe/Berlin:20220920T093000
DTEND;TZID=Europe/Berlin:20220920T110000
DTSTAMP:20260423T135740
CREATED:20220818T070838Z
LAST-MODIFIED:20220818T070838Z
UID:9555-1663666200-1663671600@felix-herkens.de
SUMMARY:Austausch mit dem Fachverband Arbeitslosenhilfe des DWW
DESCRIPTION:
URL:https://felix-herkens.de/termin/austausch-mit-dem-fachverband-arbeitslosenhilfe-des-dww/
LOCATION:Baden-Württemberg
END:VEVENT
BEGIN:VEVENT
DTSTART;TZID=Europe/Berlin:20220920T133000
DTEND;TZID=Europe/Berlin:20220920T170000
DTSTAMP:20260423T135740
CREATED:20220818T071142Z
LAST-MODIFIED:20220818T071142Z
UID:9557-1663680600-1663693200@felix-herkens.de
SUMMARY:Fraktionssitzung der Landtagsfraktion
DESCRIPTION:
URL:https://felix-herkens.de/termin/fraktionssitzung-der-landtagsfraktion-13/
LOCATION:Landtag von Baden-Württemberg
END:VEVENT
END:VCALENDAR