BEGIN:VCALENDAR
VERSION:2.0
PRODID:-//Felix Herkens - ECPv6.7.0//NONSGML v1.0//EN
CALSCALE:GREGORIAN
METHOD:PUBLISH
X-ORIGINAL-URL:https://felix-herkens.de
X-WR-CALDESC:Veranstaltungen für Felix Herkens
REFRESH-INTERVAL;VALUE=DURATION:PT1H
X-Robots-Tag:noindex
X-PUBLISHED-TTL:PT1H
BEGIN:VTIMEZONE
TZID:Europe/Berlin
BEGIN:DAYLIGHT
TZOFFSETFROM:+0100
TZOFFSETTO:+0200
TZNAME:CEST
DTSTART:20210328T010000
END:DAYLIGHT
BEGIN:STANDARD
TZOFFSETFROM:+0200
TZOFFSETTO:+0100
TZNAME:CET
DTSTART:20211031T010000
END:STANDARD
END:VTIMEZONE
BEGIN:VEVENT
DTSTART;TZID=Europe/Berlin:20210609T090000
DTEND;TZID=Europe/Berlin:20210609T130000
DTSTAMP:20260422T164028
CREATED:20210601T063402Z
LAST-MODIFIED:20210601T093531Z
UID:8908-1623229200-1623243600@felix-herkens.de
SUMMARY:Plenarsitzung
DESCRIPTION:
URL:https://felix-herkens.de/termin/plenarsitzung-landtag/
LOCATION:Landtag von Baden-Württemberg
END:VEVENT
BEGIN:VEVENT
DTSTART;TZID=Europe/Berlin:20210615T133000
DTEND;TZID=Europe/Berlin:20210615T170000
DTSTAMP:20260422T164028
CREATED:20210601T090940Z
LAST-MODIFIED:20210601T093558Z
UID:8911-1623763800-1623776400@felix-herkens.de
SUMMARY:Fraktionssitzung
DESCRIPTION:
URL:https://felix-herkens.de/termin/fraktionssitzung-landtag/
LOCATION:Landtag von Baden-Württemberg
END:VEVENT
BEGIN:VEVENT
DTSTART;TZID=Europe/Berlin:20210615T160000
DTEND;TZID=Europe/Berlin:20210615T180000
DTSTAMP:20260422T164028
CREATED:20210601T062925Z
LAST-MODIFIED:20210601T091305Z
UID:8904-1623772800-1623780000@felix-herkens.de
SUMMARY:Gemeinderat
DESCRIPTION:
URL:https://felix-herkens.de/termin/gemeinderat-pforzheim/
LOCATION:Pforzheim
END:VEVENT
BEGIN:VEVENT
DTSTART;VALUE=DATE:20210623
DTEND;VALUE=DATE:20210624
DTSTAMP:20260422T164028
CREATED:20210601T093925Z
LAST-MODIFIED:20210601T093925Z
UID:8919-1624406400-1624492799@felix-herkens.de
SUMMARY:Ausschuss für Wirtschaft\, Arbeit und Tourismus
DESCRIPTION:
URL:https://felix-herkens.de/termin/ausschuss-fuer-wirtschaft-arbeit-und-tourismus/
LOCATION:Landtag von Baden-Württemberg
END:VEVENT
END:VCALENDAR