BEGIN:VCALENDAR
VERSION:2.0
PRODID:-//Felix Herkens - ECPv6.7.0//NONSGML v1.0//EN
CALSCALE:GREGORIAN
METHOD:PUBLISH
X-ORIGINAL-URL:https://felix-herkens.de
X-WR-CALDESC:Veranstaltungen für Felix Herkens
REFRESH-INTERVAL;VALUE=DURATION:PT1H
X-Robots-Tag:noindex
X-PUBLISHED-TTL:PT1H
BEGIN:VTIMEZONE
TZID:Europe/Berlin
BEGIN:DAYLIGHT
TZOFFSETFROM:+0100
TZOFFSETTO:+0200
TZNAME:CEST
DTSTART:20230326T010000
END:DAYLIGHT
BEGIN:STANDARD
TZOFFSETFROM:+0200
TZOFFSETTO:+0100
TZNAME:CET
DTSTART:20231029T010000
END:STANDARD
END:VTIMEZONE
BEGIN:VEVENT
DTSTART;TZID=Europe/Berlin:20230613T133000
DTEND;TZID=Europe/Berlin:20230613T170000
DTSTAMP:20260421T170201
CREATED:20230607T124446Z
LAST-MODIFIED:20230607T124448Z
UID:10243-1686663000-1686675600@felix-herkens.de
SUMMARY:Fraktionssitzung der Grünen Landtagsfraktion
DESCRIPTION:
URL:https://felix-herkens.de/termin/fraktionssitzung-der-gruenen-landtagsfraktion/
LOCATION:Baden-Württemberg
END:VEVENT
BEGIN:VEVENT
DTSTART;TZID=Europe/Berlin:20230614T100000
DTEND;TZID=Europe/Berlin:20230614T180000
DTSTAMP:20260421T170201
CREATED:20230607T124959Z
LAST-MODIFIED:20230607T125000Z
UID:10246-1686736800-1686765600@felix-herkens.de
SUMMARY:Wirtschaftsausschuss
DESCRIPTION:
URL:https://felix-herkens.de/termin/wirtschaftsausschuss-5/
LOCATION:Baden-Württemberg
END:VEVENT
BEGIN:VEVENT
DTSTART;TZID=Europe/Berlin:20230620T133000
DTEND;TZID=Europe/Berlin:20230620T170000
DTSTAMP:20260421T170201
CREATED:20230607T125347Z
LAST-MODIFIED:20230607T125348Z
UID:10248-1687267800-1687280400@felix-herkens.de
SUMMARY:Fraktionssitzung der Grünen Landtagsfraktion
DESCRIPTION:
URL:https://felix-herkens.de/termin/fraktionssitzung-der-gruenen-landtagsfraktion-2/
LOCATION:Baden-Württemberg
END:VEVENT
BEGIN:VEVENT
DTSTART;TZID=Europe/Berlin:20230621T090000
DTEND;TZID=Europe/Berlin:20230621T133000
DTSTAMP:20260421T170201
CREATED:20230607T123558Z
LAST-MODIFIED:20230607T123559Z
UID:10241-1687338000-1687354200@felix-herkens.de
SUMMARY:Plenarsitzung
DESCRIPTION:
URL:https://felix-herkens.de/termin/plenarsitzung-31/
LOCATION:Baden-Württemberg
END:VEVENT
BEGIN:VEVENT
DTSTART;TZID=Europe/Berlin:20230621T140000
DTEND;TZID=Europe/Berlin:20230621T170000
DTSTAMP:20260421T170201
CREATED:20230607T125735Z
LAST-MODIFIED:20230607T130050Z
UID:10252-1687356000-1687366800@felix-herkens.de
SUMMARY:Ausschuss für Europa und Internationales
DESCRIPTION:
URL:https://felix-herkens.de/termin/europaausschuss-4/
LOCATION:Baden-Württemberg
END:VEVENT
BEGIN:VEVENT
DTSTART;TZID=Europe/Berlin:20230622T130000
DTEND;TZID=Europe/Berlin:20230622T160000
DTSTAMP:20260421T170201
CREATED:20230607T130021Z
LAST-MODIFIED:20230607T130022Z
UID:10255-1687438800-1687449600@felix-herkens.de
SUMMARY:Petitionsausschuss
DESCRIPTION:
URL:https://felix-herkens.de/termin/petitionsausschuss-7/
LOCATION:Baden-Württemberg
END:VEVENT
BEGIN:VEVENT
DTSTART;TZID=Europe/Berlin:20230628T100000
DTEND;TZID=Europe/Berlin:20230628T170000
DTSTAMP:20260421T170201
CREATED:20230607T130158Z
LAST-MODIFIED:20230607T130158Z
UID:10258-1687946400-1687971600@felix-herkens.de
SUMMARY:Plenarsitzung
DESCRIPTION:
URL:https://felix-herkens.de/termin/plenarsitzung-32/
LOCATION:Baden-Württemberg
END:VEVENT
BEGIN:VEVENT
DTSTART;TZID=Europe/Berlin:20230628T133000
DTEND;TZID=Europe/Berlin:20230628T170000
DTSTAMP:20260421T170201
CREATED:20230607T125531Z
LAST-MODIFIED:20230607T125533Z
UID:10250-1687959000-1687971600@felix-herkens.de
SUMMARY:Fraktionssitzung der Grünen Landtagsfraktion
DESCRIPTION:
URL:https://felix-herkens.de/termin/fraktionssitzung-der-gruenen-landtagsfraktion-3/
LOCATION:Baden-Württemberg
END:VEVENT
BEGIN:VEVENT
DTSTART;TZID=Europe/Berlin:20230629T093000
DTEND;TZID=Europe/Berlin:20230629T170000
DTSTAMP:20260421T170201
CREATED:20230607T130253Z
LAST-MODIFIED:20230607T130253Z
UID:10261-1688031000-1688058000@felix-herkens.de
SUMMARY:Plenarsitzung
DESCRIPTION:
URL:https://felix-herkens.de/termin/plenarsitzung-33/
LOCATION:Baden-Württemberg
END:VEVENT
END:VCALENDAR